BEGIN:VCALENDAR
VERSION:2.0
PRODID:-//law.utexas.edu//Course Schedule//EN
CALSCALE:GREGORIAN
METHOD:PUBLISH
BEGIN:VTIMEZONE
TZID:America/Chicago
X-LIC-LOCATION:America/Chicago
BEGIN:DAYLIGHT
TZOFFSETFROM:-0600
TZOFFSETTO:-0500
TZNAME:CDT
DTSTART:19700308T020000
RRULE:FREQ=YEARLY;BYMONTH=3;BYDAY=2SU
END:DAYLIGHT
BEGIN:STANDARD
TZOFFSETFROM:-0500
TZOFFSETTO:-0600
TZNAME:CST
DTSTART:19701101T020000
RRULE:FREQ=YEARLY;BYMONTH=11;BYDAY=1SU
END:STANDARD
END:VTIMEZONE
BEGIN:VEVENT
SUMMARY:SMNR: Energy Law and Policy
LOCATION:ONLINE
DTSTART;TZID=America/Chicago:20200901T190000
DTEND;TZID=America/Chicago:20200901T205000
RRULE:FREQ=WEEKLY;BYDAY=TU;UNTIL=20201207T220000
UID:77b3640f6583be5af6f834bbce8660a2
DTSTAMP:20260419T065922
DESCRIPTION:Instructors: John R. Hays Jr.
END:VEVENT
END:VCALENDAR
