BEGIN:VCALENDAR
VERSION:2.0
PRODID:-//law.utexas.edu//Course Schedule//EN
CALSCALE:GREGORIAN
METHOD:PUBLISH
BEGIN:VTIMEZONE
TZID:America/Chicago
X-LIC-LOCATION:America/Chicago
BEGIN:DAYLIGHT
TZOFFSETFROM:-0600
TZOFFSETTO:-0500
TZNAME:CDT
DTSTART:19700308T020000
RRULE:FREQ=YEARLY;BYMONTH=3;BYDAY=2SU
END:DAYLIGHT
BEGIN:STANDARD
TZOFFSETFROM:-0500
TZOFFSETTO:-0600
TZNAME:CST
DTSTART:19701101T020000
RRULE:FREQ=YEARLY;BYMONTH=11;BYDAY=1SU
END:STANDARD
END:VTIMEZONE
BEGIN:VEVENT
SUMMARY:SMNR: Federal Criminal Prosecution and Defense, Advanced
LOCATION:TNH 2.124
DTSTART;TZID=America/Chicago:20200827T161500
DTEND;TZID=America/Chicago:20200827T180500
RRULE:FREQ=WEEKLY;BYDAY=TH;UNTIL=20201207T220000
EXDATE;TZID=America/Chicago:20201126T161500
UID:54fdefaf911c705921ea5ddd6f508c87
DTSTAMP:20260419T145655
DESCRIPTION:Instructors: Aleza Simone Remis, Anthony W Brown, Susan R. Klein
END:VEVENT
END:VCALENDAR
