BEGIN:VCALENDAR
VERSION:2.0
PRODID:-//law.utexas.edu//Course Schedule//EN
CALSCALE:GREGORIAN
METHOD:PUBLISH
BEGIN:VTIMEZONE
TZID:America/Chicago
X-LIC-LOCATION:America/Chicago
BEGIN:DAYLIGHT
TZOFFSETFROM:-0600
TZOFFSETTO:-0500
TZNAME:CDT
DTSTART:19700308T020000
RRULE:FREQ=YEARLY;BYMONTH=3;BYDAY=2SU
END:DAYLIGHT
BEGIN:STANDARD
TZOFFSETFROM:-0500
TZOFFSETTO:-0600
TZNAME:CST
DTSTART:19701101T020000
RRULE:FREQ=YEARLY;BYMONTH=11;BYDAY=1SU
END:STANDARD
END:VTIMEZONE
BEGIN:VEVENT
SUMMARY:SMNR: Inequality, Labor, and Human Rights: The Future of Work in the Age of Pandemic
LOCATION:ONLINE
DTSTART;TZID=America/Chicago:20200831T161500
DTEND;TZID=America/Chicago:20200831T181500
RRULE:FREQ=WEEKLY;BYDAY=MO;UNTIL=20201207T220000
EXDATE;TZID=America/Chicago:20200907T161500
UID:1303204a4aa3d1d123c53660231cb8fe
DTSTAMP:20260419T135648
DESCRIPTION:Instructors: Karen Engle
END:VEVENT
END:VCALENDAR
