BEGIN:VCALENDAR
VERSION:2.0
PRODID:-//law.utexas.edu//Course Schedule//EN
CALSCALE:GREGORIAN
METHOD:PUBLISH
BEGIN:VTIMEZONE
TZID:America/Chicago
X-LIC-LOCATION:America/Chicago
BEGIN:DAYLIGHT
TZOFFSETFROM:-0600
TZOFFSETTO:-0500
TZNAME:CDT
DTSTART:19700308T020000
RRULE:FREQ=YEARLY;BYMONTH=3;BYDAY=2SU
END:DAYLIGHT
BEGIN:STANDARD
TZOFFSETFROM:-0500
TZOFFSETTO:-0600
TZNAME:CST
DTSTART:19701101T020000
RRULE:FREQ=YEARLY;BYMONTH=11;BYDAY=1SU
END:STANDARD
END:VTIMEZONE
BEGIN:VEVENT
SUMMARY:SMNR: Patent Law, Advanced
LOCATION:ONLINE
DTSTART;TZID=America/Chicago:20200827T090000
DTEND;TZID=America/Chicago:20200827T105000
RRULE:FREQ=WEEKLY;BYDAY=TH;UNTIL=20201207T220000
EXDATE;TZID=America/Chicago:20201126T090000
UID:084048c29a7b63274c22a67d6318b503
DTSTAMP:20260419T184901
DESCRIPTION:Instructors: David G. Wille
END:VEVENT
END:VCALENDAR
