BEGIN:VCALENDAR
VERSION:2.0
PRODID:-//law.utexas.edu//Course Schedule//EN
CALSCALE:GREGORIAN
METHOD:PUBLISH
BEGIN:VTIMEZONE
TZID:America/Chicago
X-LIC-LOCATION:America/Chicago
BEGIN:DAYLIGHT
TZOFFSETFROM:-0600
TZOFFSETTO:-0500
TZNAME:CDT
DTSTART:19700308T020000
RRULE:FREQ=YEARLY;BYMONTH=3;BYDAY=2SU
END:DAYLIGHT
BEGIN:STANDARD
TZOFFSETFROM:-0500
TZOFFSETTO:-0600
TZNAME:CST
DTSTART:19701101T020000
RRULE:FREQ=YEARLY;BYMONTH=11;BYDAY=1SU
END:STANDARD
END:VTIMEZONE
BEGIN:VEVENT
SUMMARY:Federal Criminal Law
LOCATION:ONLINE
DTSTART;TZID=America/Chicago:20210126T174500
DTEND;TZID=America/Chicago:20210126T190600
RRULE:FREQ=WEEKLY;BYDAY=TU,TH;UNTIL=20210430T220000
EXDATE;TZID=America/Chicago:20210316T174500
EXDATE;TZID=America/Chicago:20210318T174500
UID:db1ecaca3e21d3e3012ad15435c24013
DTSTAMP:20260419T152602
DESCRIPTION:Instructors: Aleza Simone Remis, Susan R. Klein
END:VEVENT
END:VCALENDAR
