BEGIN:VCALENDAR
VERSION:2.0
PRODID:-//law.utexas.edu//Course Schedule//EN
CALSCALE:GREGORIAN
METHOD:PUBLISH
BEGIN:VTIMEZONE
TZID:America/Chicago
X-LIC-LOCATION:America/Chicago
BEGIN:DAYLIGHT
TZOFFSETFROM:-0600
TZOFFSETTO:-0500
TZNAME:CDT
DTSTART:19700308T020000
RRULE:FREQ=YEARLY;BYMONTH=3;BYDAY=2SU
END:DAYLIGHT
BEGIN:STANDARD
TZOFFSETFROM:-0500
TZOFFSETTO:-0600
TZNAME:CST
DTSTART:19701101T020000
RRULE:FREQ=YEARLY;BYMONTH=11;BYDAY=1SU
END:STANDARD
END:VTIMEZONE
BEGIN:VEVENT
SUMMARY:Legal Research, Advanced
LOCATION:ONLINE
DTSTART;TZID=America/Chicago:20210129T103500
DTEND;TZID=America/Chicago:20210129T123300
RRULE:FREQ=WEEKLY;BYDAY=FR;UNTIL=20210430T220000
UID:efd8420947188c02a928acecd5e92ef2
DTSTAMP:20260419T164759
DESCRIPTION:Instructors: Molly Brownfield, Matthew R. Steinke
END:VEVENT
END:VCALENDAR
