BEGIN:VCALENDAR
VERSION:2.0
PRODID:-//law.utexas.edu//Course Schedule//EN
CALSCALE:GREGORIAN
METHOD:PUBLISH
BEGIN:VTIMEZONE
TZID:America/Chicago
X-LIC-LOCATION:America/Chicago
BEGIN:DAYLIGHT
TZOFFSETFROM:-0600
TZOFFSETTO:-0500
TZNAME:CDT
DTSTART:19700308T020000
RRULE:FREQ=YEARLY;BYMONTH=3;BYDAY=2SU
END:DAYLIGHT
BEGIN:STANDARD
TZOFFSETFROM:-0500
TZOFFSETTO:-0600
TZNAME:CST
DTSTART:19701101T020000
RRULE:FREQ=YEARLY;BYMONTH=11;BYDAY=1SU
END:STANDARD
END:VTIMEZONE
BEGIN:VEVENT
SUMMARY:Persuasive Wrtg and Advocacy
LOCATION:ONLINE
DTSTART;TZID=America/Chicago:20210126T101500
DTEND;TZID=America/Chicago:20210126T112200
RRULE:FREQ=WEEKLY;BYDAY=TU;UNTIL=20210430T220000
EXDATE;TZID=America/Chicago:20210316T101500
UID:6d42de232dc2ae3254d97a4d6465a649
DTSTAMP:20260419T172916
DESCRIPTION:Instructors: Sean J. Petrie
END:VEVENT
BEGIN:VEVENT
SUMMARY:Persuasive Wrtg and Advocacy
LOCATION:ONLINE
DTSTART;TZID=America/Chicago:20210129T114500
DTEND;TZID=America/Chicago:20210129T125200
RRULE:FREQ=WEEKLY;BYDAY=FR;UNTIL=20210430T220000
UID:e42bbdaac60054bf9c47f5ccf085f278
DTSTAMP:20260419T172916
DESCRIPTION:Instructors: Sean J. Petrie
END:VEVENT
END:VCALENDAR
