BEGIN:VCALENDAR
VERSION:2.0
PRODID:-//law.utexas.edu//Course Schedule//EN
CALSCALE:GREGORIAN
METHOD:PUBLISH
BEGIN:VTIMEZONE
TZID:America/Chicago
X-LIC-LOCATION:America/Chicago
BEGIN:DAYLIGHT
TZOFFSETFROM:-0600
TZOFFSETTO:-0500
TZNAME:CDT
DTSTART:19700308T020000
RRULE:FREQ=YEARLY;BYMONTH=3;BYDAY=2SU
END:DAYLIGHT
BEGIN:STANDARD
TZOFFSETFROM:-0500
TZOFFSETTO:-0600
TZNAME:CST
DTSTART:19701101T020000
RRULE:FREQ=YEARLY;BYMONTH=11;BYDAY=1SU
END:STANDARD
END:VTIMEZONE
BEGIN:VEVENT
SUMMARY:Persuasive Wrtg and Advocacy
LOCATION:ONLINE
DTSTART;TZID=America/Chicago:20210126T090000
DTEND;TZID=America/Chicago:20210126T100700
RRULE:FREQ=WEEKLY;BYDAY=TU;UNTIL=20210430T220000
EXDATE;TZID=America/Chicago:20210316T090000
UID:b6c6072d986e37d463e4a1b7e0a1101d
DTSTAMP:20260419T212226
DESCRIPTION:Instructors: Sean J. Petrie
END:VEVENT
BEGIN:VEVENT
SUMMARY:Persuasive Wrtg and Advocacy
LOCATION:ONLINE
DTSTART;TZID=America/Chicago:20210129T103000
DTEND;TZID=America/Chicago:20210129T113700
RRULE:FREQ=WEEKLY;BYDAY=FR;UNTIL=20210430T220000
UID:105c77f1c0bdf0b1019c7f087466adaf
DTSTAMP:20260419T212226
DESCRIPTION:Instructors: Sean J. Petrie
END:VEVENT
END:VCALENDAR
