BEGIN:VCALENDAR
VERSION:2.0
PRODID:-//law.utexas.edu//Course Schedule//EN
CALSCALE:GREGORIAN
METHOD:PUBLISH
BEGIN:VTIMEZONE
TZID:America/Chicago
X-LIC-LOCATION:America/Chicago
BEGIN:DAYLIGHT
TZOFFSETFROM:-0600
TZOFFSETTO:-0500
TZNAME:CDT
DTSTART:19700308T020000
RRULE:FREQ=YEARLY;BYMONTH=3;BYDAY=2SU
END:DAYLIGHT
BEGIN:STANDARD
TZOFFSETFROM:-0500
TZOFFSETTO:-0600
TZNAME:CST
DTSTART:19701101T020000
RRULE:FREQ=YEARLY;BYMONTH=11;BYDAY=1SU
END:STANDARD
END:VTIMEZONE
BEGIN:VEVENT
SUMMARY:Criminal Procedure: Investigation
LOCATION:ONLINE
DTSTART;TZID=America/Chicago:20210128T103000
DTEND;TZID=America/Chicago:20210128T115100
RRULE:FREQ=WEEKLY;BYDAY=TH,FR;UNTIL=20210430T220000
EXDATE;TZID=America/Chicago:20210318T103000
UID:5121d6c27e1b9564d28e9ab5f39f903b
DTSTAMP:20260419T135638
DESCRIPTION:Instructors: Graham B. Strong
END:VEVENT
END:VCALENDAR
