BEGIN:VCALENDAR
VERSION:2.0
PRODID:-//law.utexas.edu//Course Schedule//EN
CALSCALE:GREGORIAN
METHOD:PUBLISH
BEGIN:VTIMEZONE
TZID:America/Chicago
X-LIC-LOCATION:America/Chicago
BEGIN:DAYLIGHT
TZOFFSETFROM:-0600
TZOFFSETTO:-0500
TZNAME:CDT
DTSTART:19700308T020000
RRULE:FREQ=YEARLY;BYMONTH=3;BYDAY=2SU
END:DAYLIGHT
BEGIN:STANDARD
TZOFFSETFROM:-0500
TZOFFSETTO:-0600
TZNAME:CST
DTSTART:19701101T020000
RRULE:FREQ=YEARLY;BYMONTH=11;BYDAY=1SU
END:STANDARD
END:VTIMEZONE
BEGIN:VEVENT
SUMMARY:Preparing for a Federal District Clerkship
LOCATION:TNH 2.138
DTSTART;TZID=America/Chicago:20210128T115400
DTEND;TZID=America/Chicago:20210128T133000
RRULE:FREQ=WEEKLY;BYDAY=TH;UNTIL=20210430T220000
EXDATE;TZID=America/Chicago:20210318T115400
UID:c978f4a4e6612ffa80cdbb8d62c75ca5
DTSTAMP:20260419T125111
DESCRIPTION:Instructors: Andrew W. Austin, Elizabeth S. Chestney
END:VEVENT
END:VCALENDAR
