BEGIN:VCALENDAR
VERSION:2.0
PRODID:-//law.utexas.edu//Course Schedule//EN
CALSCALE:GREGORIAN
METHOD:PUBLISH
BEGIN:VTIMEZONE
TZID:America/Chicago
X-LIC-LOCATION:America/Chicago
BEGIN:DAYLIGHT
TZOFFSETFROM:-0600
TZOFFSETTO:-0500
TZNAME:CDT
DTSTART:19700308T020000
RRULE:FREQ=YEARLY;BYMONTH=3;BYDAY=2SU
END:DAYLIGHT
BEGIN:STANDARD
TZOFFSETFROM:-0500
TZOFFSETTO:-0600
TZNAME:CST
DTSTART:19701101T020000
RRULE:FREQ=YEARLY;BYMONTH=11;BYDAY=1SU
END:STANDARD
END:VTIMEZONE
BEGIN:VEVENT
SUMMARY:Oil and Gas
LOCATION:TNH 2.139
DTSTART;TZID=America/Chicago:20210125T120000
DTEND;TZID=America/Chicago:20210125T132100
RRULE:FREQ=WEEKLY;BYDAY=MO,WE;UNTIL=20210430T220000
EXDATE;TZID=America/Chicago:20210315T120000
EXDATE;TZID=America/Chicago:20210317T120000
UID:06f3b3e00c9f746735ebf05d7797848d
DTSTAMP:20260419T113348
DESCRIPTION:Instructors: Jack Balagia, John Beckworth
END:VEVENT
END:VCALENDAR
