BEGIN:VCALENDAR
VERSION:2.0
PRODID:-//law.utexas.edu//Course Schedule//EN
CALSCALE:GREGORIAN
METHOD:PUBLISH
BEGIN:VTIMEZONE
TZID:America/Chicago
X-LIC-LOCATION:America/Chicago
BEGIN:DAYLIGHT
TZOFFSETFROM:-0600
TZOFFSETTO:-0500
TZNAME:CDT
DTSTART:19700308T020000
RRULE:FREQ=YEARLY;BYMONTH=3;BYDAY=2SU
END:DAYLIGHT
BEGIN:STANDARD
TZOFFSETFROM:-0500
TZOFFSETTO:-0600
TZNAME:CST
DTSTART:19701101T020000
RRULE:FREQ=YEARLY;BYMONTH=11;BYDAY=1SU
END:STANDARD
END:VTIMEZONE
BEGIN:VEVENT
SUMMARY:Clinic: Entrepreneurship/Community Development
LOCATION:ONLINE
DTSTART;TZID=America/Chicago:20210125T144000
DTEND;TZID=America/Chicago:20210125T164000
RRULE:FREQ=WEEKLY;BYDAY=MO;UNTIL=20210430T220000
EXDATE;TZID=America/Chicago:20210315T144000
UID:b8f73cd0ebb6b9292bbcac5176f7216e
DTSTAMP:20260421T185804
DESCRIPTION:Instructors: Frances Leos Martinez, Heather K. Way
END:VEVENT
BEGIN:VEVENT
SUMMARY:Clinic: Entrepreneurship/Community Development
LOCATION:ONLINE
DTSTART;TZID=America/Chicago:20210128T090000
DTEND;TZID=America/Chicago:20210128T095000
RRULE:FREQ=WEEKLY;BYDAY=TH;UNTIL=20210430T220000
EXDATE;TZID=America/Chicago:20210318T090000
UID:abd4245f6f9b72009e79bfa52078681d
DTSTAMP:20260421T185804
DESCRIPTION:Instructors: Frances Leos Martinez, Heather K. Way
END:VEVENT
END:VCALENDAR
