BEGIN:VCALENDAR
VERSION:2.0
PRODID:-//law.utexas.edu//Course Schedule//EN
CALSCALE:GREGORIAN
METHOD:PUBLISH
BEGIN:VTIMEZONE
TZID:America/Chicago
X-LIC-LOCATION:America/Chicago
BEGIN:DAYLIGHT
TZOFFSETFROM:-0600
TZOFFSETTO:-0500
TZNAME:CDT
DTSTART:19700308T020000
RRULE:FREQ=YEARLY;BYMONTH=3;BYDAY=2SU
END:DAYLIGHT
BEGIN:STANDARD
TZOFFSETFROM:-0500
TZOFFSETTO:-0600
TZNAME:CST
DTSTART:19701101T020000
RRULE:FREQ=YEARLY;BYMONTH=11;BYDAY=1SU
END:STANDARD
END:VTIMEZONE
BEGIN:VEVENT
SUMMARY:Clinic: Immigration
LOCATION:TNH 3.124
DTSTART;TZID=America/Chicago:20210126T130000
DTEND;TZID=America/Chicago:20210126T143000
RRULE:FREQ=WEEKLY;BYDAY=TU,TH;UNTIL=20210430T220000
EXDATE;TZID=America/Chicago:20210316T130000
EXDATE;TZID=America/Chicago:20210318T130000
UID:aeafdc29fe4759db80da04be94dc5479
DTSTAMP:20260419T141722
DESCRIPTION:Instructors: Denise L. Gilman, Elissa C. Steglich, Valerie Whiting
END:VEVENT
END:VCALENDAR
