BEGIN:VCALENDAR
VERSION:2.0
PRODID:-//law.utexas.edu//Course Schedule//EN
CALSCALE:GREGORIAN
METHOD:PUBLISH
BEGIN:VTIMEZONE
TZID:America/Chicago
X-LIC-LOCATION:America/Chicago
BEGIN:DAYLIGHT
TZOFFSETFROM:-0600
TZOFFSETTO:-0500
TZNAME:CDT
DTSTART:19700308T020000
RRULE:FREQ=YEARLY;BYMONTH=3;BYDAY=2SU
END:DAYLIGHT
BEGIN:STANDARD
TZOFFSETFROM:-0500
TZOFFSETTO:-0600
TZNAME:CST
DTSTART:19701101T020000
RRULE:FREQ=YEARLY;BYMONTH=11;BYDAY=1SU
END:STANDARD
END:VTIMEZONE
BEGIN:VEVENT
SUMMARY:Clinic: Juvenile Justice
LOCATION:TNH 3.127
DTSTART;TZID=America/Chicago:20210126T133500
DTEND;TZID=America/Chicago:20210126T145000
RRULE:FREQ=WEEKLY;BYDAY=TU,TH;UNTIL=20210430T220000
EXDATE;TZID=America/Chicago:20210316T133500
EXDATE;TZID=America/Chicago:20210318T133500
UID:2961e1b30f5ca69742eb6353a22c0229
DTSTAMP:20260419T103437
DESCRIPTION:Instructors: Michelle M Galaviz, Pamela J. Sigman, Sarah E. Casner, Scott Alan Constantine, Scott Ruplinger
END:VEVENT
END:VCALENDAR
