BEGIN:VCALENDAR
VERSION:2.0
PRODID:-//law.utexas.edu//Course Schedule//EN
CALSCALE:GREGORIAN
METHOD:PUBLISH
BEGIN:VTIMEZONE
TZID:America/Chicago
X-LIC-LOCATION:America/Chicago
BEGIN:DAYLIGHT
TZOFFSETFROM:-0600
TZOFFSETTO:-0500
TZNAME:CDT
DTSTART:19700308T020000
RRULE:FREQ=YEARLY;BYMONTH=3;BYDAY=2SU
END:DAYLIGHT
BEGIN:STANDARD
TZOFFSETFROM:-0500
TZOFFSETTO:-0600
TZNAME:CST
DTSTART:19701101T020000
RRULE:FREQ=YEARLY;BYMONTH=11;BYDAY=1SU
END:STANDARD
END:VTIMEZONE
BEGIN:VEVENT
SUMMARY:SMNR: Evidence, Advanced
LOCATION:ONLINE
DTSTART;TZID=America/Chicago:20210127T161500
DTEND;TZID=America/Chicago:20210127T181300
RRULE:FREQ=WEEKLY;BYDAY=WE;UNTIL=20210430T220000
EXDATE;TZID=America/Chicago:20210317T161500
UID:844d7dcded96809884f1d481016a9666
DTSTAMP:20260419T083050
DESCRIPTION:Instructors: Steven Goode
END:VEVENT
END:VCALENDAR
