BEGIN:VCALENDAR
VERSION:2.0
PRODID:-//law.utexas.edu//Course Schedule//EN
CALSCALE:GREGORIAN
METHOD:PUBLISH
BEGIN:VTIMEZONE
TZID:America/Chicago
X-LIC-LOCATION:America/Chicago
BEGIN:DAYLIGHT
TZOFFSETFROM:-0600
TZOFFSETTO:-0500
TZNAME:CDT
DTSTART:19700308T020000
RRULE:FREQ=YEARLY;BYMONTH=3;BYDAY=2SU
END:DAYLIGHT
BEGIN:STANDARD
TZOFFSETFROM:-0500
TZOFFSETTO:-0600
TZNAME:CST
DTSTART:19701101T020000
RRULE:FREQ=YEARLY;BYMONTH=11;BYDAY=1SU
END:STANDARD
END:VTIMEZONE
BEGIN:VEVENT
SUMMARY:Criminal Law I
LOCATION:TNH 2.114
DTSTART;TZID=America/Chicago:20210826T121000
DTEND;TZID=America/Chicago:20210826T140000
RRULE:FREQ=WEEKLY;BYDAY=TH;UNTIL=20211206T220000
EXDATE;TZID=America/Chicago:20211125T121000
UID:b5e35499db5ec3414a463a1b15db129f
DTSTAMP:20260419T135622
DESCRIPTION:Instructors: Graham B. Strong
END:VEVENT
BEGIN:VEVENT
SUMMARY:Criminal Law I
LOCATION:TNH 2.114
DTSTART;TZID=America/Chicago:20210827T103000
DTEND;TZID=America/Chicago:20210827T122000
RRULE:FREQ=WEEKLY;BYDAY=FR;UNTIL=20211206T220000
EXDATE;TZID=America/Chicago:20211126T103000
UID:d2400ebab5f21723a3991ab41e6f1cb0
DTSTAMP:20260419T135622
DESCRIPTION:Instructors: Graham B. Strong
END:VEVENT
END:VCALENDAR
