BEGIN:VCALENDAR
VERSION:2.0
PRODID:-//law.utexas.edu//Course Schedule//EN
CALSCALE:GREGORIAN
METHOD:PUBLISH
BEGIN:VTIMEZONE
TZID:America/Chicago
X-LIC-LOCATION:America/Chicago
BEGIN:DAYLIGHT
TZOFFSETFROM:-0600
TZOFFSETTO:-0500
TZNAME:CDT
DTSTART:19700308T020000
RRULE:FREQ=YEARLY;BYMONTH=3;BYDAY=2SU
END:DAYLIGHT
BEGIN:STANDARD
TZOFFSETFROM:-0500
TZOFFSETTO:-0600
TZNAME:CST
DTSTART:19701101T020000
RRULE:FREQ=YEARLY;BYMONTH=11;BYDAY=1SU
END:STANDARD
END:VTIMEZONE
BEGIN:VEVENT
SUMMARY:Torts
LOCATION:TNH 2.138
DTSTART;TZID=America/Chicago:20210825T142000
DTEND;TZID=America/Chicago:20210825T152700
RRULE:FREQ=WEEKLY;BYDAY=TU,WE,TH;UNTIL=20211206T220000
EXDATE;TZID=America/Chicago:20211124T142000
EXDATE;TZID=America/Chicago:20211125T142000
UID:155ea62d0a7898b2315e294a7fbc5591
DTSTAMP:20260419T133811
DESCRIPTION:Instructors: Melissa F. Wasserman
END:VEVENT
END:VCALENDAR
