BEGIN:VCALENDAR
VERSION:2.0
PRODID:-//law.utexas.edu//Course Schedule//EN
CALSCALE:GREGORIAN
METHOD:PUBLISH
BEGIN:VTIMEZONE
TZID:America/Chicago
X-LIC-LOCATION:America/Chicago
BEGIN:DAYLIGHT
TZOFFSETFROM:-0600
TZOFFSETTO:-0500
TZNAME:CDT
DTSTART:19700308T020000
RRULE:FREQ=YEARLY;BYMONTH=3;BYDAY=2SU
END:DAYLIGHT
BEGIN:STANDARD
TZOFFSETFROM:-0500
TZOFFSETTO:-0600
TZNAME:CST
DTSTART:19701101T020000
RRULE:FREQ=YEARLY;BYMONTH=11;BYDAY=1SU
END:STANDARD
END:VTIMEZONE
BEGIN:VEVENT
SUMMARY:Legal Analysis and Communication
LOCATION:TNH 2.124
DTSTART;TZID=America/Chicago:20210830T130000
DTEND;TZID=America/Chicago:20210830T140700
RRULE:FREQ=WEEKLY;BYDAY=MO;UNTIL=20211206T220000
EXDATE;TZID=America/Chicago:20210906T130000
UID:c9519f6576c4eea80abd99301e2b3aee
DTSTAMP:20260419T144241
DESCRIPTION:Instructors: Lori R. Mason
END:VEVENT
BEGIN:VEVENT
SUMMARY:Legal Analysis and Communication
LOCATION:TNH 2.124
DTSTART;TZID=America/Chicago:20210825T114500
DTEND;TZID=America/Chicago:20210825T125200
RRULE:FREQ=WEEKLY;BYDAY=WE;UNTIL=20211206T220000
EXDATE;TZID=America/Chicago:20211124T114500
UID:0332c8ee1706edb754fb69854fede3ad
DTSTAMP:20260419T144241
DESCRIPTION:Instructors: Lori R. Mason
END:VEVENT
END:VCALENDAR
