BEGIN:VCALENDAR
VERSION:2.0
PRODID:-//law.utexas.edu//Course Schedule//EN
CALSCALE:GREGORIAN
METHOD:PUBLISH
BEGIN:VTIMEZONE
TZID:America/Chicago
X-LIC-LOCATION:America/Chicago
BEGIN:DAYLIGHT
TZOFFSETFROM:-0600
TZOFFSETTO:-0500
TZNAME:CDT
DTSTART:19700308T020000
RRULE:FREQ=YEARLY;BYMONTH=3;BYDAY=2SU
END:DAYLIGHT
BEGIN:STANDARD
TZOFFSETFROM:-0500
TZOFFSETTO:-0600
TZNAME:CST
DTSTART:19701101T020000
RRULE:FREQ=YEARLY;BYMONTH=11;BYDAY=1SU
END:STANDARD
END:VTIMEZONE
BEGIN:VEVENT
SUMMARY:Legal Analysis and Communication
LOCATION:TNH 3.125
DTSTART;TZID=America/Chicago:20210825T130000
DTEND;TZID=America/Chicago:20210825T140700
RRULE:FREQ=WEEKLY;BYDAY=MO,WE;UNTIL=20211206T220000
EXDATE;TZID=America/Chicago:20210906T130000
EXDATE;TZID=America/Chicago:20211124T130000
UID:0f7dbf34f2e1597305f90ebe7e22387a
DTSTAMP:20260419T133816
DESCRIPTION:Instructors: Julie D. Wimmer
END:VEVENT
END:VCALENDAR
