BEGIN:VCALENDAR
VERSION:2.0
PRODID:-//law.utexas.edu//Course Schedule//EN
CALSCALE:GREGORIAN
METHOD:PUBLISH
BEGIN:VTIMEZONE
TZID:America/Chicago
X-LIC-LOCATION:America/Chicago
BEGIN:DAYLIGHT
TZOFFSETFROM:-0600
TZOFFSETTO:-0500
TZNAME:CDT
DTSTART:19700308T020000
RRULE:FREQ=YEARLY;BYMONTH=3;BYDAY=2SU
END:DAYLIGHT
BEGIN:STANDARD
TZOFFSETFROM:-0500
TZOFFSETTO:-0600
TZNAME:CST
DTSTART:19701101T020000
RRULE:FREQ=YEARLY;BYMONTH=11;BYDAY=1SU
END:STANDARD
END:VTIMEZONE
BEGIN:VEVENT
SUMMARY:Legal Analysis and Communication
LOCATION:TNH 2.124
DTSTART;TZID=America/Chicago:20210830T153500
DTEND;TZID=America/Chicago:20210830T164200
RRULE:FREQ=WEEKLY;BYDAY=MO;UNTIL=20211206T220000
EXDATE;TZID=America/Chicago:20210906T153500
UID:6d8ddf516e2ce7e8dc5d3167217e8cbc
DTSTAMP:20260419T085501
DESCRIPTION:Instructors: Matthew Murrell
END:VEVENT
BEGIN:VEVENT
SUMMARY:Legal Analysis and Communication
LOCATION:TNH 2.124
DTSTART;TZID=America/Chicago:20210827T103000
DTEND;TZID=America/Chicago:20210827T113700
RRULE:FREQ=WEEKLY;BYDAY=FR;UNTIL=20211206T220000
EXDATE;TZID=America/Chicago:20211126T103000
UID:51acc2734e9ae3eec5db0b202c8314e1
DTSTAMP:20260419T085501
DESCRIPTION:Instructors: Matthew Murrell
END:VEVENT
END:VCALENDAR
