BEGIN:VCALENDAR
VERSION:2.0
PRODID:-//law.utexas.edu//Course Schedule//EN
CALSCALE:GREGORIAN
METHOD:PUBLISH
BEGIN:VTIMEZONE
TZID:America/Chicago
X-LIC-LOCATION:America/Chicago
BEGIN:DAYLIGHT
TZOFFSETFROM:-0600
TZOFFSETTO:-0500
TZNAME:CDT
DTSTART:19700308T020000
RRULE:FREQ=YEARLY;BYMONTH=3;BYDAY=2SU
END:DAYLIGHT
BEGIN:STANDARD
TZOFFSETFROM:-0500
TZOFFSETTO:-0600
TZNAME:CST
DTSTART:19701101T020000
RRULE:FREQ=YEARLY;BYMONTH=11;BYDAY=1SU
END:STANDARD
END:VTIMEZONE
BEGIN:VEVENT
SUMMARY:Civil Procedure
LOCATION:TNH 2.138
DTSTART;TZID=America/Chicago:20210825T103000
DTEND;TZID=America/Chicago:20210825T113700
RRULE:FREQ=WEEKLY;BYDAY=MO,TU,WE;UNTIL=20211206T220000
EXDATE;TZID=America/Chicago:20210906T103000
EXDATE;TZID=America/Chicago:20211124T103000
UID:02bb490306d121a55348b87946449901
DTSTAMP:20260419T152749
DESCRIPTION:Instructors: Robert G. Bone
END:VEVENT
END:VCALENDAR
