BEGIN:VCALENDAR
VERSION:2.0
PRODID:-//law.utexas.edu//Course Schedule//EN
CALSCALE:GREGORIAN
METHOD:PUBLISH
BEGIN:VTIMEZONE
TZID:America/Chicago
X-LIC-LOCATION:America/Chicago
BEGIN:DAYLIGHT
TZOFFSETFROM:-0600
TZOFFSETTO:-0500
TZNAME:CDT
DTSTART:19700308T020000
RRULE:FREQ=YEARLY;BYMONTH=3;BYDAY=2SU
END:DAYLIGHT
BEGIN:STANDARD
TZOFFSETFROM:-0500
TZOFFSETTO:-0600
TZNAME:CST
DTSTART:19701101T020000
RRULE:FREQ=YEARLY;BYMONTH=11;BYDAY=1SU
END:STANDARD
END:VTIMEZONE
BEGIN:VEVENT
SUMMARY:Patent Law
LOCATION:JON 5.206/7
DTSTART;TZID=America/Chicago:20210825T141500
DTEND;TZID=America/Chicago:20210825T153000
RRULE:FREQ=WEEKLY;BYDAY=MO,WE;UNTIL=20211206T220000
EXDATE;TZID=America/Chicago:20210906T141500
EXDATE;TZID=America/Chicago:20211124T141500
UID:9ff25d4e5927d9f848b3b272ded476cc
DTSTAMP:20260423T131353
DESCRIPTION:Instructors: David E. Adelman
END:VEVENT
END:VCALENDAR
