BEGIN:VCALENDAR
VERSION:2.0
PRODID:-//law.utexas.edu//Course Schedule//EN
CALSCALE:GREGORIAN
METHOD:PUBLISH
BEGIN:VTIMEZONE
TZID:America/Chicago
X-LIC-LOCATION:America/Chicago
BEGIN:DAYLIGHT
TZOFFSETFROM:-0600
TZOFFSETTO:-0500
TZNAME:CDT
DTSTART:19700308T020000
RRULE:FREQ=YEARLY;BYMONTH=3;BYDAY=2SU
END:DAYLIGHT
BEGIN:STANDARD
TZOFFSETFROM:-0500
TZOFFSETTO:-0600
TZNAME:CST
DTSTART:19701101T020000
RRULE:FREQ=YEARLY;BYMONTH=11;BYDAY=1SU
END:STANDARD
END:VTIMEZONE
BEGIN:VEVENT
SUMMARY:Administrative Law, Texas
LOCATION:TNH 2.123
DTSTART;TZID=America/Chicago:20210825T163000
DTEND;TZID=America/Chicago:20210825T174500
RRULE:FREQ=WEEKLY;BYDAY=MO,WE;UNTIL=20211206T220000
EXDATE;TZID=America/Chicago:20210906T163000
EXDATE;TZID=America/Chicago:20211124T163000
UID:168ad9e3e14009a60a0da7c4f528d280
DTSTAMP:20260419T172801
DESCRIPTION:Instructors: Craig R. Bennett, Hunter W Burkhalter
END:VEVENT
END:VCALENDAR
