BEGIN:VCALENDAR
VERSION:2.0
PRODID:-//law.utexas.edu//Course Schedule//EN
CALSCALE:GREGORIAN
METHOD:PUBLISH
BEGIN:VTIMEZONE
TZID:America/Chicago
X-LIC-LOCATION:America/Chicago
BEGIN:DAYLIGHT
TZOFFSETFROM:-0600
TZOFFSETTO:-0500
TZNAME:CDT
DTSTART:19700308T020000
RRULE:FREQ=YEARLY;BYMONTH=3;BYDAY=2SU
END:DAYLIGHT
BEGIN:STANDARD
TZOFFSETFROM:-0500
TZOFFSETTO:-0600
TZNAME:CST
DTSTART:19701101T020000
RRULE:FREQ=YEARLY;BYMONTH=11;BYDAY=1SU
END:STANDARD
END:VTIMEZONE
BEGIN:VEVENT
SUMMARY:Law of Music Festivals
LOCATION:TNH 3.125
DTSTART;TZID=America/Chicago:20210826T161500
DTEND;TZID=America/Chicago:20210826T180500
RRULE:FREQ=WEEKLY;BYDAY=TH;UNTIL=20211206T220000
EXDATE;TZID=America/Chicago:20211125T161500
UID:c013c49375ec3081d8b196226aa33d68
DTSTAMP:20260419T080235
DESCRIPTION:Instructors: Heather Van Dyke
END:VEVENT
END:VCALENDAR
