BEGIN:VCALENDAR
VERSION:2.0
PRODID:-//law.utexas.edu//Course Schedule//EN
CALSCALE:GREGORIAN
METHOD:PUBLISH
BEGIN:VTIMEZONE
TZID:America/Chicago
X-LIC-LOCATION:America/Chicago
BEGIN:DAYLIGHT
TZOFFSETFROM:-0600
TZOFFSETTO:-0500
TZNAME:CDT
DTSTART:19700308T020000
RRULE:FREQ=YEARLY;BYMONTH=3;BYDAY=2SU
END:DAYLIGHT
BEGIN:STANDARD
TZOFFSETFROM:-0500
TZOFFSETTO:-0600
TZNAME:CST
DTSTART:19701101T020000
RRULE:FREQ=YEARLY;BYMONTH=11;BYDAY=1SU
END:STANDARD
END:VTIMEZONE
BEGIN:VEVENT
SUMMARY:U.S. Constitutional Law for Foreign Lawyers
LOCATION:TNH 2.140
DTSTART;TZID=America/Chicago:20210826T131500
DTEND;TZID=America/Chicago:20210826T140500
RRULE:FREQ=WEEKLY;BYDAY=TU,TH;UNTIL=20211206T220000
EXDATE;TZID=America/Chicago:20211125T131500
UID:28636ece997717e3be2c7bdeb0c3ac0f
DTSTAMP:20260419T090600
DESCRIPTION:Instructors: H. W. Perry Jr
END:VEVENT
END:VCALENDAR
