BEGIN:VCALENDAR
VERSION:2.0
PRODID:-//law.utexas.edu//Course Schedule//EN
CALSCALE:GREGORIAN
METHOD:PUBLISH
BEGIN:VTIMEZONE
TZID:America/Chicago
X-LIC-LOCATION:America/Chicago
BEGIN:DAYLIGHT
TZOFFSETFROM:-0600
TZOFFSETTO:-0500
TZNAME:CDT
DTSTART:19700308T020000
RRULE:FREQ=YEARLY;BYMONTH=3;BYDAY=2SU
END:DAYLIGHT
BEGIN:STANDARD
TZOFFSETFROM:-0500
TZOFFSETTO:-0600
TZNAME:CST
DTSTART:19701101T020000
RRULE:FREQ=YEARLY;BYMONTH=11;BYDAY=1SU
END:STANDARD
END:VTIMEZONE
BEGIN:VEVENT
SUMMARY:Reentry: Criminal Justice
LOCATION:JON 6.206
DTSTART;TZID=America/Chicago:20210825T153500
DTEND;TZID=America/Chicago:20210825T172500
RRULE:FREQ=WEEKLY;BYDAY=WE;UNTIL=20211206T220000
EXDATE;TZID=America/Chicago:20211124T153500
UID:c38add2b2fee401de01996cd56776232
DTSTAMP:20260419T095938
DESCRIPTION:Instructors: Helen Anne Gaebler
END:VEVENT
END:VCALENDAR
