BEGIN:VCALENDAR
VERSION:2.0
PRODID:-//law.utexas.edu//Course Schedule//EN
CALSCALE:GREGORIAN
METHOD:PUBLISH
BEGIN:VTIMEZONE
TZID:America/Chicago
X-LIC-LOCATION:America/Chicago
BEGIN:DAYLIGHT
TZOFFSETFROM:-0600
TZOFFSETTO:-0500
TZNAME:CDT
DTSTART:19700308T020000
RRULE:FREQ=YEARLY;BYMONTH=3;BYDAY=2SU
END:DAYLIGHT
BEGIN:STANDARD
TZOFFSETFROM:-0500
TZOFFSETTO:-0600
TZNAME:CST
DTSTART:19701101T020000
RRULE:FREQ=YEARLY;BYMONTH=11;BYDAY=1SU
END:STANDARD
END:VTIMEZONE
BEGIN:VEVENT
SUMMARY:Persuasive Writing and Advocacy
LOCATION:TNH 3.127
DTSTART;TZID=America/Chicago:20220120T130000
DTEND;TZID=America/Chicago:20220120T140700
RRULE:FREQ=WEEKLY;BYDAY=TH;UNTIL=20220502T220000
EXDATE;TZID=America/Chicago:20220317T130000
UID:be68a5669bf3f664637a165ef1da40d2
DTSTAMP:20260420T081039
DESCRIPTION:Instructors: Sean J. Petrie
END:VEVENT
BEGIN:VEVENT
SUMMARY:Persuasive Writing and Advocacy
LOCATION:TNH 3.127
DTSTART;TZID=America/Chicago:20220121T103000
DTEND;TZID=America/Chicago:20220121T113700
RRULE:FREQ=WEEKLY;BYDAY=FR;UNTIL=20220502T220000
UID:eddf5637260871343bbbeeaf45ba8088
DTSTAMP:20260420T081039
DESCRIPTION:Instructors: Sean J. Petrie
END:VEVENT
END:VCALENDAR
