BEGIN:VCALENDAR
VERSION:2.0
PRODID:-//law.utexas.edu//Course Schedule//EN
CALSCALE:GREGORIAN
METHOD:PUBLISH
BEGIN:VTIMEZONE
TZID:America/Chicago
X-LIC-LOCATION:America/Chicago
BEGIN:DAYLIGHT
TZOFFSETFROM:-0600
TZOFFSETTO:-0500
TZNAME:CDT
DTSTART:19700308T020000
RRULE:FREQ=YEARLY;BYMONTH=3;BYDAY=2SU
END:DAYLIGHT
BEGIN:STANDARD
TZOFFSETFROM:-0500
TZOFFSETTO:-0600
TZNAME:CST
DTSTART:19701101T020000
RRULE:FREQ=YEARLY;BYMONTH=11;BYDAY=1SU
END:STANDARD
END:VTIMEZONE
BEGIN:VEVENT
SUMMARY:Const Law II: Race and the Constitution, 1787-1903
LOCATION:TNH 2.124
DTSTART;TZID=America/Chicago:20220119T141500
DTEND;TZID=America/Chicago:20220119T153000
RRULE:FREQ=WEEKLY;BYDAY=MO,WE;UNTIL=20220502T220000
EXDATE;TZID=America/Chicago:20220314T141500
EXDATE;TZID=America/Chicago:20220316T141500
UID:f42762732358fd2b8abf493b9ff1c787
DTSTAMP:20260422T103820
DESCRIPTION:Instructors: Sanford V. Levinson
END:VEVENT
END:VCALENDAR
