BEGIN:VCALENDAR
VERSION:2.0
PRODID:-//law.utexas.edu//Course Schedule//EN
CALSCALE:GREGORIAN
METHOD:PUBLISH
BEGIN:VTIMEZONE
TZID:America/Chicago
X-LIC-LOCATION:America/Chicago
BEGIN:DAYLIGHT
TZOFFSETFROM:-0600
TZOFFSETTO:-0500
TZNAME:CDT
DTSTART:19700308T020000
RRULE:FREQ=YEARLY;BYMONTH=3;BYDAY=2SU
END:DAYLIGHT
BEGIN:STANDARD
TZOFFSETFROM:-0500
TZOFFSETTO:-0600
TZNAME:CST
DTSTART:19701101T020000
RRULE:FREQ=YEARLY;BYMONTH=11;BYDAY=1SU
END:STANDARD
END:VTIMEZONE
BEGIN:VEVENT
SUMMARY:Mass Tort Litigation
LOCATION:ONLINE
DTSTART;TZID=America/Chicago:20220119T115000
DTEND;TZID=America/Chicago:20220119T130500
RRULE:FREQ=WEEKLY;BYDAY=MO,WE;UNTIL=20220502T220000
EXDATE;TZID=America/Chicago:20220314T115000
EXDATE;TZID=America/Chicago:20220316T115000
UID:d493cf5e7aabf10acb79e5d00aff736f
DTSTAMP:20260419T104724
DESCRIPTION:Instructors: Linda S. Mullenix
END:VEVENT
END:VCALENDAR
