BEGIN:VCALENDAR
VERSION:2.0
PRODID:-//law.utexas.edu//Course Schedule//EN
CALSCALE:GREGORIAN
METHOD:PUBLISH
BEGIN:VTIMEZONE
TZID:America/Chicago
X-LIC-LOCATION:America/Chicago
BEGIN:DAYLIGHT
TZOFFSETFROM:-0600
TZOFFSETTO:-0500
TZNAME:CDT
DTSTART:19700308T020000
RRULE:FREQ=YEARLY;BYMONTH=3;BYDAY=2SU
END:DAYLIGHT
BEGIN:STANDARD
TZOFFSETFROM:-0500
TZOFFSETTO:-0600
TZNAME:CST
DTSTART:19701101T020000
RRULE:FREQ=YEARLY;BYMONTH=11;BYDAY=1SU
END:STANDARD
END:VTIMEZONE
BEGIN:VEVENT
SUMMARY:Law and Literature
LOCATION:JON 6.207
DTSTART;TZID=America/Chicago:20220118T154500
DTEND;TZID=America/Chicago:20220118T173500
RRULE:FREQ=WEEKLY;BYDAY=TU;UNTIL=20220502T220000
EXDATE;TZID=America/Chicago:20220315T154500
UID:569ec83d8dd3ed218a0e37536df64a2d
DTSTAMP:20260422T053853
DESCRIPTION:Instructors: Philip C. Bobbitt, Sanford V. Levinson
END:VEVENT
END:VCALENDAR
