BEGIN:VCALENDAR
VERSION:2.0
PRODID:-//law.utexas.edu//Course Schedule//EN
CALSCALE:GREGORIAN
METHOD:PUBLISH
BEGIN:VTIMEZONE
TZID:America/Chicago
X-LIC-LOCATION:America/Chicago
BEGIN:DAYLIGHT
TZOFFSETFROM:-0600
TZOFFSETTO:-0500
TZNAME:CDT
DTSTART:19700308T020000
RRULE:FREQ=YEARLY;BYMONTH=3;BYDAY=2SU
END:DAYLIGHT
BEGIN:STANDARD
TZOFFSETFROM:-0500
TZOFFSETTO:-0600
TZNAME:CST
DTSTART:19701101T020000
RRULE:FREQ=YEARLY;BYMONTH=11;BYDAY=1SU
END:STANDARD
END:VTIMEZONE
BEGIN:VEVENT
SUMMARY:Cutting-Edge Constitutional Litigation from the Trial Court to the Supreme Court
LOCATION:TNH 2.124
DTSTART;TZID=America/Chicago:20220121T103000
DTEND;TZID=America/Chicago:20220121T122000
RRULE:FREQ=WEEKLY;BYDAY=FR;UNTIL=20220502T220000
UID:11d7c248f4b9d499b12a796e4e93240a
DTSTAMP:20260419T091546
DESCRIPTION:Instructors: Jeffrey T. Rowes
END:VEVENT
END:VCALENDAR
