BEGIN:VCALENDAR
VERSION:2.0
PRODID:-//law.utexas.edu//Course Schedule//EN
CALSCALE:GREGORIAN
METHOD:PUBLISH
BEGIN:VTIMEZONE
TZID:America/Chicago
X-LIC-LOCATION:America/Chicago
BEGIN:DAYLIGHT
TZOFFSETFROM:-0600
TZOFFSETTO:-0500
TZNAME:CDT
DTSTART:19700308T020000
RRULE:FREQ=YEARLY;BYMONTH=3;BYDAY=2SU
END:DAYLIGHT
BEGIN:STANDARD
TZOFFSETFROM:-0500
TZOFFSETTO:-0600
TZNAME:CST
DTSTART:19701101T020000
RRULE:FREQ=YEARLY;BYMONTH=11;BYDAY=1SU
END:STANDARD
END:VTIMEZONE
BEGIN:VEVENT
SUMMARY:SEC Enforcement Practice
LOCATION:JON 6.206
DTSTART;TZID=America/Chicago:20220119T174500
DTEND;TZID=America/Chicago:20220119T192500
RRULE:FREQ=WEEKLY;BYDAY=WE;UNTIL=20220502T220000
EXDATE;TZID=America/Chicago:20220316T174500
UID:128495f160f2da21d45d826d2b70b77f
DTSTAMP:20260419T145636
DESCRIPTION:Instructors: Erich Schwartz
END:VEVENT
END:VCALENDAR
