BEGIN:VCALENDAR
VERSION:2.0
PRODID:-//law.utexas.edu//Course Schedule//EN
CALSCALE:GREGORIAN
METHOD:PUBLISH
BEGIN:VTIMEZONE
TZID:America/Chicago
X-LIC-LOCATION:America/Chicago
BEGIN:DAYLIGHT
TZOFFSETFROM:-0600
TZOFFSETTO:-0500
TZNAME:CDT
DTSTART:19700308T020000
RRULE:FREQ=YEARLY;BYMONTH=3;BYDAY=2SU
END:DAYLIGHT
BEGIN:STANDARD
TZOFFSETFROM:-0500
TZOFFSETTO:-0600
TZNAME:CST
DTSTART:19701101T020000
RRULE:FREQ=YEARLY;BYMONTH=11;BYDAY=1SU
END:STANDARD
END:VTIMEZONE
BEGIN:VEVENT
SUMMARY:Const Law II: Free Speech
LOCATION:TNH 3.142
DTSTART;TZID=America/Chicago:20220822T142500
DTEND;TZID=America/Chicago:20220822T151500
RRULE:FREQ=WEEKLY;BYDAY=MO,TU,WE;UNTIL=20221205T220000
EXDATE;TZID=America/Chicago:20220905T142500
UID:c891ac9c304542ec7fa03e3aec89afcc
DTSTAMP:20260419T102655
DESCRIPTION:Instructors: David M. Rabban
END:VEVENT
END:VCALENDAR
