BEGIN:VCALENDAR
VERSION:2.0
PRODID:-//law.utexas.edu//Course Schedule//EN
CALSCALE:GREGORIAN
METHOD:PUBLISH
BEGIN:VTIMEZONE
TZID:America/Chicago
X-LIC-LOCATION:America/Chicago
BEGIN:DAYLIGHT
TZOFFSETFROM:-0600
TZOFFSETTO:-0500
TZNAME:CDT
DTSTART:19700308T020000
RRULE:FREQ=YEARLY;BYMONTH=3;BYDAY=2SU
END:DAYLIGHT
BEGIN:STANDARD
TZOFFSETFROM:-0500
TZOFFSETTO:-0600
TZNAME:CST
DTSTART:19701101T020000
RRULE:FREQ=YEARLY;BYMONTH=11;BYDAY=1SU
END:STANDARD
END:VTIMEZONE
BEGIN:VEVENT
SUMMARY:Negotiation
LOCATION:TNH 3.126
DTSTART;TZID=America/Chicago:20220824T174500
DTEND;TZID=America/Chicago:20220824T203500
RRULE:FREQ=WEEKLY;BYDAY=WE;UNTIL=20221205T220000
UID:b8a2401c1c6c0ff630cfd8ca1ebb3e5b
DTSTAMP:20260419T131238
DESCRIPTION:Instructors: Aaron C. Gregg
END:VEVENT
END:VCALENDAR
