BEGIN:VCALENDAR
VERSION:2.0
PRODID:-//law.utexas.edu//Course Schedule//EN
CALSCALE:GREGORIAN
METHOD:PUBLISH
BEGIN:VTIMEZONE
TZID:America/Chicago
X-LIC-LOCATION:America/Chicago
BEGIN:DAYLIGHT
TZOFFSETFROM:-0600
TZOFFSETTO:-0500
TZNAME:CDT
DTSTART:19700308T020000
RRULE:FREQ=YEARLY;BYMONTH=3;BYDAY=2SU
END:DAYLIGHT
BEGIN:STANDARD
TZOFFSETFROM:-0500
TZOFFSETTO:-0600
TZNAME:CST
DTSTART:19701101T020000
RRULE:FREQ=YEARLY;BYMONTH=11;BYDAY=1SU
END:STANDARD
END:VTIMEZONE
BEGIN:VEVENT
SUMMARY:Alternative Dispute Resolution
LOCATION:TNH 2.124
DTSTART;TZID=America/Chicago:20220823T141500
DTEND;TZID=America/Chicago:20220823T164500
RRULE:FREQ=WEEKLY;BYDAY=TU;UNTIL=20221205T220000
UID:d43d7f4a9e8640b60d84fca4637108b2
DTSTAMP:20260419T131644
DESCRIPTION:Instructors: Sara E. Saltmarsh
END:VEVENT
END:VCALENDAR
