BEGIN:VCALENDAR
VERSION:2.0
PRODID:-//law.utexas.edu//Course Schedule//EN
CALSCALE:GREGORIAN
METHOD:PUBLISH
BEGIN:VTIMEZONE
TZID:America/Chicago
X-LIC-LOCATION:America/Chicago
BEGIN:DAYLIGHT
TZOFFSETFROM:-0600
TZOFFSETTO:-0500
TZNAME:CDT
DTSTART:19700308T020000
RRULE:FREQ=YEARLY;BYMONTH=3;BYDAY=2SU
END:DAYLIGHT
BEGIN:STANDARD
TZOFFSETFROM:-0500
TZOFFSETTO:-0600
TZNAME:CST
DTSTART:19701101T020000
RRULE:FREQ=YEARLY;BYMONTH=11;BYDAY=1SU
END:STANDARD
END:VTIMEZONE
BEGIN:VEVENT
SUMMARY:Complex Litigation
LOCATION:TNH 3.124
DTSTART;TZID=America/Chicago:20220824T141500
DTEND;TZID=America/Chicago:20220824T153000
RRULE:FREQ=WEEKLY;BYDAY=WE;UNTIL=20221205T220000
UID:79c6c38b9d72e39c8ce6d42dee2d769a
DTSTAMP:20260420T113928
DESCRIPTION:Instructors: D. Theodore Rave
END:VEVENT
BEGIN:VEVENT
SUMMARY:Complex Litigation
LOCATION:TNH 3.126
DTSTART;TZID=America/Chicago:20220825T141500
DTEND;TZID=America/Chicago:20220825T153000
RRULE:FREQ=WEEKLY;BYDAY=TH;UNTIL=20221205T220000
UID:92d254bb4cd7e5689d9110839ab868cd
DTSTAMP:20260420T113928
DESCRIPTION:Instructors: D. Theodore Rave
END:VEVENT
END:VCALENDAR
