BEGIN:VCALENDAR
VERSION:2.0
PRODID:-//law.utexas.edu//Course Schedule//EN
CALSCALE:GREGORIAN
METHOD:PUBLISH
BEGIN:VTIMEZONE
TZID:America/Chicago
X-LIC-LOCATION:America/Chicago
BEGIN:DAYLIGHT
TZOFFSETFROM:-0600
TZOFFSETTO:-0500
TZNAME:CDT
DTSTART:19700308T020000
RRULE:FREQ=YEARLY;BYMONTH=3;BYDAY=2SU
END:DAYLIGHT
BEGIN:STANDARD
TZOFFSETFROM:-0500
TZOFFSETTO:-0600
TZNAME:CST
DTSTART:19701101T020000
RRULE:FREQ=YEARLY;BYMONTH=11;BYDAY=1SU
END:STANDARD
END:VTIMEZONE
BEGIN:VEVENT
SUMMARY:Intensive Litigation Advocacy Skills
LOCATION:TNH 3.140
DTSTART;TZID=America/Chicago:20220824T120000
DTEND;TZID=America/Chicago:20220824T150000
RRULE:FREQ=WEEKLY;BYDAY=WE;UNTIL=20221205T220000
UID:b2078407182855806e7b3e5b091a03d0
DTSTAMP:20260419T091500
DESCRIPTION:Instructors: Jay D. Ellwanger, Mark A. Santos, Mike Golden, Murff F. Bledsoe, Sharon C. Baxter, Tracy W. McCormack
END:VEVENT
BEGIN:VEVENT
SUMMARY:Intensive Litigation Advocacy Skills
LOCATION:TNH 3.140
DTSTART;TZID=America/Chicago:20220825T131500
DTEND;TZID=America/Chicago:20220825T140500
RRULE:FREQ=WEEKLY;BYDAY=TH;UNTIL=20221205T220000
UID:ef1a770575326e8b347a3ed58706c588
DTSTAMP:20260419T091500
DESCRIPTION:Instructors: Jay D. Ellwanger, Mark A. Santos, Mike Golden, Murff F. Bledsoe, Sharon C. Baxter, Tracy W. McCormack
END:VEVENT
END:VCALENDAR
