BEGIN:VCALENDAR
VERSION:2.0
PRODID:-//law.utexas.edu//Course Schedule//EN
CALSCALE:GREGORIAN
METHOD:PUBLISH
BEGIN:VTIMEZONE
TZID:America/Chicago
X-LIC-LOCATION:America/Chicago
BEGIN:DAYLIGHT
TZOFFSETFROM:-0600
TZOFFSETTO:-0500
TZNAME:CDT
DTSTART:19700308T020000
RRULE:FREQ=YEARLY;BYMONTH=3;BYDAY=2SU
END:DAYLIGHT
BEGIN:STANDARD
TZOFFSETFROM:-0500
TZOFFSETTO:-0600
TZNAME:CST
DTSTART:19701101T020000
RRULE:FREQ=YEARLY;BYMONTH=11;BYDAY=1SU
END:STANDARD
END:VTIMEZONE
BEGIN:VEVENT
SUMMARY:Appellate Advocacy
LOCATION:TNH 2.123
DTSTART;TZID=America/Chicago:20220825T161500
DTEND;TZID=America/Chicago:20220825T190500
RRULE:FREQ=WEEKLY;BYDAY=TH;UNTIL=20221205T220000
UID:aec53a2d6188b23e9c234c42296ed9e2
DTSTAMP:20260419T160629
DESCRIPTION:Instructors: Amy J. Schumacher, Dana Livingston, David J. Campbell, Robert M. Roach Jr.
END:VEVENT
END:VCALENDAR
