BEGIN:VCALENDAR
VERSION:2.0
PRODID:-//law.utexas.edu//Course Schedule//EN
CALSCALE:GREGORIAN
METHOD:PUBLISH
BEGIN:VTIMEZONE
TZID:America/Chicago
X-LIC-LOCATION:America/Chicago
BEGIN:DAYLIGHT
TZOFFSETFROM:-0600
TZOFFSETTO:-0500
TZNAME:CDT
DTSTART:19700308T020000
RRULE:FREQ=YEARLY;BYMONTH=3;BYDAY=2SU
END:DAYLIGHT
BEGIN:STANDARD
TZOFFSETFROM:-0500
TZOFFSETTO:-0600
TZNAME:CST
DTSTART:19701101T020000
RRULE:FREQ=YEARLY;BYMONTH=11;BYDAY=1SU
END:STANDARD
END:VTIMEZONE
BEGIN:VEVENT
SUMMARY:Environmental Law & Natural Resources
LOCATION:TNH 3.140
DTSTART;TZID=America/Chicago:20220823T141500
DTEND;TZID=America/Chicago:20220823T150500
RRULE:FREQ=WEEKLY;BYDAY=TU;UNTIL=20221205T220000
UID:f8e3527f3146507c511102e380f06b58
DTSTAMP:20260424T130312
DESCRIPTION:Instructors: Melinda E. Taylor
END:VEVENT
BEGIN:VEVENT
SUMMARY:Environmental Law & Natural Resources
LOCATION:TNH 3.125
DTSTART;TZID=America/Chicago:20220824T141500
DTEND;TZID=America/Chicago:20220824T150500
RRULE:FREQ=WEEKLY;BYDAY=WE;UNTIL=20221205T220000
UID:4d0d1d740dd9e02a2bc10bd28e8405d9
DTSTAMP:20260424T130312
DESCRIPTION:Instructors: Melinda E. Taylor
END:VEVENT
BEGIN:VEVENT
SUMMARY:Environmental Law & Natural Resources
LOCATION:TNH 3.142
DTSTART;TZID=America/Chicago:20220825T141500
DTEND;TZID=America/Chicago:20220825T150500
RRULE:FREQ=WEEKLY;BYDAY=TH;UNTIL=20221205T220000
UID:01f33d2e009a3b62bed0d6c3ae335c8c
DTSTAMP:20260424T130312
DESCRIPTION:Instructors: Melinda E. Taylor
END:VEVENT
END:VCALENDAR
