BEGIN:VCALENDAR
VERSION:2.0
PRODID:-//law.utexas.edu//Course Schedule//EN
CALSCALE:GREGORIAN
METHOD:PUBLISH
BEGIN:VTIMEZONE
TZID:America/Chicago
X-LIC-LOCATION:America/Chicago
BEGIN:DAYLIGHT
TZOFFSETFROM:-0600
TZOFFSETTO:-0500
TZNAME:CDT
DTSTART:19700308T020000
RRULE:FREQ=YEARLY;BYMONTH=3;BYDAY=2SU
END:DAYLIGHT
BEGIN:STANDARD
TZOFFSETFROM:-0500
TZOFFSETTO:-0600
TZNAME:CST
DTSTART:19701101T020000
RRULE:FREQ=YEARLY;BYMONTH=11;BYDAY=1SU
END:STANDARD
END:VTIMEZONE
BEGIN:VEVENT
SUMMARY:U.S. Constitutional Law for Foreign Lawyers
LOCATION:TNH 2.123
DTSTART;TZID=America/Chicago:20220823T131500
DTEND;TZID=America/Chicago:20220823T140500
RRULE:FREQ=WEEKLY;BYDAY=TU;UNTIL=20221205T220000
UID:7b5091cf5332075a296a09571662e8ab
DTSTAMP:20260419T090520
DESCRIPTION:Instructors: H. W. Perry Jr
END:VEVENT
BEGIN:VEVENT
SUMMARY:U.S. Constitutional Law for Foreign Lawyers
LOCATION:TNH 2.137
DTSTART;TZID=America/Chicago:20220825T131500
DTEND;TZID=America/Chicago:20220825T140500
RRULE:FREQ=WEEKLY;BYDAY=TH;UNTIL=20221205T220000
UID:c193cf8f4031bc97b322119f0b242b16
DTSTAMP:20260419T090520
DESCRIPTION:Instructors: H. W. Perry Jr
END:VEVENT
END:VCALENDAR
