BEGIN:VCALENDAR
VERSION:2.0
PRODID:-//law.utexas.edu//Course Schedule//EN
CALSCALE:GREGORIAN
METHOD:PUBLISH
BEGIN:VTIMEZONE
TZID:America/Chicago
X-LIC-LOCATION:America/Chicago
BEGIN:DAYLIGHT
TZOFFSETFROM:-0600
TZOFFSETTO:-0500
TZNAME:CDT
DTSTART:19700308T020000
RRULE:FREQ=YEARLY;BYMONTH=3;BYDAY=2SU
END:DAYLIGHT
BEGIN:STANDARD
TZOFFSETFROM:-0500
TZOFFSETTO:-0600
TZNAME:CST
DTSTART:19701101T020000
RRULE:FREQ=YEARLY;BYMONTH=11;BYDAY=1SU
END:STANDARD
END:VTIMEZONE
BEGIN:VEVENT
SUMMARY:Sneaker Law: Legal Issues in Apparel & Trademark
LOCATION:JON 6.257
DTSTART;TZID=America/Chicago:20220823T103000
DTEND;TZID=America/Chicago:20220823T112000
RRULE:FREQ=WEEKLY;BYDAY=TU,WE,TH;UNTIL=20221205T220000
UID:f19a043165fc3b3a2098d49d9cc71d68
DTSTAMP:20260419T191159
DESCRIPTION:Instructors: Christopher Henry Sokol
END:VEVENT
END:VCALENDAR
