BEGIN:VCALENDAR
VERSION:2.0
PRODID:-//law.utexas.edu//Course Schedule//EN
CALSCALE:GREGORIAN
METHOD:PUBLISH
BEGIN:VTIMEZONE
TZID:America/Chicago
X-LIC-LOCATION:America/Chicago
BEGIN:DAYLIGHT
TZOFFSETFROM:-0600
TZOFFSETTO:-0500
TZNAME:CDT
DTSTART:19700308T020000
RRULE:FREQ=YEARLY;BYMONTH=3;BYDAY=2SU
END:DAYLIGHT
BEGIN:STANDARD
TZOFFSETFROM:-0500
TZOFFSETTO:-0600
TZNAME:CST
DTSTART:19701101T020000
RRULE:FREQ=YEARLY;BYMONTH=11;BYDAY=1SU
END:STANDARD
END:VTIMEZONE
BEGIN:VEVENT
SUMMARY:SMNR: Federal Criminal Prosecution, Advanced
LOCATION:TNH 3.126
DTSTART;TZID=America/Chicago:20220826T130000
DTEND;TZID=America/Chicago:20220826T145000
RRULE:FREQ=WEEKLY;BYDAY=FR;UNTIL=20221205T220000
UID:55afbf912e78949f229b98d576f02a85
DTSTAMP:20260419T085339
DESCRIPTION:Instructors: Aleza Simone Remis, Susan R. Klein
END:VEVENT
END:VCALENDAR
