BEGIN:VCALENDAR
VERSION:2.0
PRODID:-//law.utexas.edu//Course Schedule//EN
CALSCALE:GREGORIAN
METHOD:PUBLISH
BEGIN:VTIMEZONE
TZID:America/Chicago
X-LIC-LOCATION:America/Chicago
BEGIN:DAYLIGHT
TZOFFSETFROM:-0600
TZOFFSETTO:-0500
TZNAME:CDT
DTSTART:19700308T020000
RRULE:FREQ=YEARLY;BYMONTH=3;BYDAY=2SU
END:DAYLIGHT
BEGIN:STANDARD
TZOFFSETFROM:-0500
TZOFFSETTO:-0600
TZNAME:CST
DTSTART:19701101T020000
RRULE:FREQ=YEARLY;BYMONTH=11;BYDAY=1SU
END:STANDARD
END:VTIMEZONE
BEGIN:VEVENT
SUMMARY:SMNR: Surveillance, Liberty, and Privacy
LOCATION:TNH 2.137
DTSTART;TZID=America/Chicago:20220825T141500
DTEND;TZID=America/Chicago:20220825T160500
RRULE:FREQ=WEEKLY;BYDAY=TH;UNTIL=20221205T220000
UID:dc51a0cdefede2828622121039e106b1
DTSTAMP:20260419T083133
DESCRIPTION:Instructors: Adam I. Klein
END:VEVENT
END:VCALENDAR
