BEGIN:VCALENDAR
VERSION:2.0
PRODID:-//law.utexas.edu//Course Schedule//EN
CALSCALE:GREGORIAN
METHOD:PUBLISH
BEGIN:VTIMEZONE
TZID:America/Chicago
X-LIC-LOCATION:America/Chicago
BEGIN:DAYLIGHT
TZOFFSETFROM:-0600
TZOFFSETTO:-0500
TZNAME:CDT
DTSTART:19700308T020000
RRULE:FREQ=YEARLY;BYMONTH=3;BYDAY=2SU
END:DAYLIGHT
BEGIN:STANDARD
TZOFFSETFROM:-0500
TZOFFSETTO:-0600
TZNAME:CST
DTSTART:19701101T020000
RRULE:FREQ=YEARLY;BYMONTH=11;BYDAY=1SU
END:STANDARD
END:VTIMEZONE
BEGIN:VEVENT
SUMMARY:Criminal Law I
LOCATION:TNH 2.139
DTSTART;TZID=America/Chicago:20230112T100000
DTEND;TZID=America/Chicago:20230112T115000
RRULE:FREQ=WEEKLY;BYDAY=TH,FR;UNTIL=20230424T220000
EXDATE;TZID=America/Chicago:20230316T100000
UID:da7387199d53a9f561fb142d89d266c6
DTSTAMP:20260419T152006
DESCRIPTION:Instructors: Graham B. Strong
END:VEVENT
END:VCALENDAR
