BEGIN:VCALENDAR
VERSION:2.0
PRODID:-//law.utexas.edu//Course Schedule//EN
CALSCALE:GREGORIAN
METHOD:PUBLISH
BEGIN:VTIMEZONE
TZID:America/Chicago
X-LIC-LOCATION:America/Chicago
BEGIN:DAYLIGHT
TZOFFSETFROM:-0600
TZOFFSETTO:-0500
TZNAME:CDT
DTSTART:19700308T020000
RRULE:FREQ=YEARLY;BYMONTH=3;BYDAY=2SU
END:DAYLIGHT
BEGIN:STANDARD
TZOFFSETFROM:-0500
TZOFFSETTO:-0600
TZNAME:CST
DTSTART:19701101T020000
RRULE:FREQ=YEARLY;BYMONTH=11;BYDAY=1SU
END:STANDARD
END:VTIMEZONE
BEGIN:VEVENT
SUMMARY:Persuasive Writing and Advocacy
LOCATION:TNH 3.125
DTSTART;TZID=America/Chicago:20230110T130000
DTEND;TZID=America/Chicago:20230110T140700
RRULE:FREQ=WEEKLY;BYDAY=TU;UNTIL=20230424T220000
EXDATE;TZID=America/Chicago:20230314T130000
UID:d7a314f496158794d6251bca57324bfa
DTSTAMP:20260419T152726
DESCRIPTION:Instructors: Lori R. Mason
END:VEVENT
BEGIN:VEVENT
SUMMARY:Persuasive Writing and Advocacy
LOCATION:TNH 2.124
DTSTART;TZID=America/Chicago:20230113T105000
DTEND;TZID=America/Chicago:20230113T115700
RRULE:FREQ=WEEKLY;BYDAY=FR;UNTIL=20230424T220000
UID:7880a1d406a7392d8d7e0790b789cc53
DTSTAMP:20260419T152726
DESCRIPTION:Instructors: Lori R. Mason
END:VEVENT
END:VCALENDAR
