BEGIN:VCALENDAR
VERSION:2.0
PRODID:-//law.utexas.edu//Course Schedule//EN
CALSCALE:GREGORIAN
METHOD:PUBLISH
BEGIN:VTIMEZONE
TZID:America/Chicago
X-LIC-LOCATION:America/Chicago
BEGIN:DAYLIGHT
TZOFFSETFROM:-0600
TZOFFSETTO:-0500
TZNAME:CDT
DTSTART:19700308T020000
RRULE:FREQ=YEARLY;BYMONTH=3;BYDAY=2SU
END:DAYLIGHT
BEGIN:STANDARD
TZOFFSETFROM:-0500
TZOFFSETTO:-0600
TZNAME:CST
DTSTART:19701101T020000
RRULE:FREQ=YEARLY;BYMONTH=11;BYDAY=1SU
END:STANDARD
END:VTIMEZONE
BEGIN:VEVENT
SUMMARY:International Human Rights Law
LOCATION:JON 5.206
DTSTART;TZID=America/Chicago:20230109T123500
DTEND;TZID=America/Chicago:20230109T140500
RRULE:FREQ=WEEKLY;BYDAY=MO,WE;UNTIL=20230424T220000
EXDATE;TZID=America/Chicago:20230313T123500
EXDATE;TZID=America/Chicago:20230315T123500
UID:569565d02ad93bdbb842e4f72aa280a9
DTSTAMP:20260419T102344
DESCRIPTION:Instructors: Karen Engle
END:VEVENT
END:VCALENDAR
