BEGIN:VCALENDAR
VERSION:2.0
PRODID:-//law.utexas.edu//Course Schedule//EN
CALSCALE:GREGORIAN
METHOD:PUBLISH
BEGIN:VTIMEZONE
TZID:America/Chicago
X-LIC-LOCATION:America/Chicago
BEGIN:DAYLIGHT
TZOFFSETFROM:-0600
TZOFFSETTO:-0500
TZNAME:CDT
DTSTART:19700308T020000
RRULE:FREQ=YEARLY;BYMONTH=3;BYDAY=2SU
END:DAYLIGHT
BEGIN:STANDARD
TZOFFSETFROM:-0500
TZOFFSETTO:-0600
TZNAME:CST
DTSTART:19701101T020000
RRULE:FREQ=YEARLY;BYMONTH=11;BYDAY=1SU
END:STANDARD
END:VTIMEZONE
BEGIN:VEVENT
SUMMARY:Preparing for a Federal District Clerkship
LOCATION:JON 5.206
DTSTART;TZID=America/Chicago:20230113T103000
DTEND;TZID=America/Chicago:20230113T122000
RRULE:FREQ=WEEKLY;BYDAY=FR;UNTIL=20230424T220000
UID:0b407ff2c50f709ecafc307dfe01ee6f
DTSTAMP:20260419T113215
DESCRIPTION:Instructors: Andrew W. Austin, Elizabeth S. Chestney
END:VEVENT
END:VCALENDAR
