BEGIN:VCALENDAR
VERSION:2.0
PRODID:-//law.utexas.edu//Course Schedule//EN
CALSCALE:GREGORIAN
METHOD:PUBLISH
BEGIN:VTIMEZONE
TZID:America/Chicago
X-LIC-LOCATION:America/Chicago
BEGIN:DAYLIGHT
TZOFFSETFROM:-0600
TZOFFSETTO:-0500
TZNAME:CDT
DTSTART:19700308T020000
RRULE:FREQ=YEARLY;BYMONTH=3;BYDAY=2SU
END:DAYLIGHT
BEGIN:STANDARD
TZOFFSETFROM:-0500
TZOFFSETTO:-0600
TZNAME:CST
DTSTART:19701101T020000
RRULE:FREQ=YEARLY;BYMONTH=11;BYDAY=1SU
END:STANDARD
END:VTIMEZONE
BEGIN:VEVENT
SUMMARY:Legal Research, Advanced
LOCATION:JON 3.222
DTSTART;TZID=America/Chicago:20230113T103000
DTEND;TZID=America/Chicago:20230113T122000
RRULE:FREQ=WEEKLY;BYDAY=FR;UNTIL=20230424T220000
UID:ae090dff9e9cff9a4f1c086773fd69ca
DTSTAMP:20260419T191041
DESCRIPTION:Instructors: Molly Brownfield, Matthew R. Steinke
END:VEVENT
END:VCALENDAR
