BEGIN:VCALENDAR
VERSION:2.0
PRODID:-//law.utexas.edu//Course Schedule//EN
CALSCALE:GREGORIAN
METHOD:PUBLISH
BEGIN:VTIMEZONE
TZID:America/Chicago
X-LIC-LOCATION:America/Chicago
BEGIN:DAYLIGHT
TZOFFSETFROM:-0600
TZOFFSETTO:-0500
TZNAME:CDT
DTSTART:19700308T020000
RRULE:FREQ=YEARLY;BYMONTH=3;BYDAY=2SU
END:DAYLIGHT
BEGIN:STANDARD
TZOFFSETFROM:-0500
TZOFFSETTO:-0600
TZNAME:CST
DTSTART:19701101T020000
RRULE:FREQ=YEARLY;BYMONTH=11;BYDAY=1SU
END:STANDARD
END:VTIMEZONE
BEGIN:VEVENT
SUMMARY:Advocacy Survey: Skills
LOCATION:CCJ 3.306
DTSTART;TZID=America/Chicago:20230111T180000
DTEND;TZID=America/Chicago:20230111T210000
RRULE:FREQ=WEEKLY;BYDAY=WE;UNTIL=20230424T220000
EXDATE;TZID=America/Chicago:20230315T180000
UID:fba87d911be03c74c50b65e8d0fc91fb
DTSTAMP:20260419T141629
DESCRIPTION:Instructors: Guillermo Jose Gonzalez, Jessica L. Mangrum, Murff F. Bledsoe
END:VEVENT
END:VCALENDAR
