BEGIN:VCALENDAR
VERSION:2.0
PRODID:-//law.utexas.edu//Course Schedule//EN
CALSCALE:GREGORIAN
METHOD:PUBLISH
BEGIN:VTIMEZONE
TZID:America/Chicago
X-LIC-LOCATION:America/Chicago
BEGIN:DAYLIGHT
TZOFFSETFROM:-0600
TZOFFSETTO:-0500
TZNAME:CDT
DTSTART:19700308T020000
RRULE:FREQ=YEARLY;BYMONTH=3;BYDAY=2SU
END:DAYLIGHT
BEGIN:STANDARD
TZOFFSETFROM:-0500
TZOFFSETTO:-0600
TZNAME:CST
DTSTART:19701101T020000
RRULE:FREQ=YEARLY;BYMONTH=11;BYDAY=1SU
END:STANDARD
END:VTIMEZONE
BEGIN:VEVENT
SUMMARY:Sports Law
LOCATION:TNH 3.124
DTSTART;TZID=America/Chicago:20230109T091000
DTEND;TZID=America/Chicago:20230109T100000
RRULE:FREQ=WEEKLY;BYDAY=MO,TU,WE;UNTIL=20230424T220000
EXDATE;TZID=America/Chicago:20230313T091000
EXDATE;TZID=America/Chicago:20230314T091000
EXDATE;TZID=America/Chicago:20230315T091000
UID:34122cdf2c17aed374a550d5fb9df40d
DTSTAMP:20260419T151949
DESCRIPTION:Instructors: Lucas A. Powe Jr.
END:VEVENT
END:VCALENDAR
